BEGIN:VCALENDAR
VERSION:2.0
PRODID:-//Yankee POCI - ECPv6.15.20//NONSGML v1.0//EN
CALSCALE:GREGORIAN
METHOD:PUBLISH
X-ORIGINAL-URL:https://yankeepoci.org
X-WR-CALDESC:Events for Yankee POCI
REFRESH-INTERVAL;VALUE=DURATION:PT1H
X-Robots-Tag:noindex
X-PUBLISHED-TTL:PT1H
BEGIN:VTIMEZONE
TZID:America/New_York
BEGIN:DAYLIGHT
TZOFFSETFROM:-0500
TZOFFSETTO:-0400
TZNAME:EDT
DTSTART:20210314T070000
END:DAYLIGHT
BEGIN:STANDARD
TZOFFSETFROM:-0400
TZOFFSETTO:-0500
TZNAME:EST
DTSTART:20211107T060000
END:STANDARD
BEGIN:DAYLIGHT
TZOFFSETFROM:-0500
TZOFFSETTO:-0400
TZNAME:EDT
DTSTART:20220313T070000
END:DAYLIGHT
BEGIN:STANDARD
TZOFFSETFROM:-0400
TZOFFSETTO:-0500
TZNAME:EST
DTSTART:20221106T060000
END:STANDARD
BEGIN:DAYLIGHT
TZOFFSETFROM:-0500
TZOFFSETTO:-0400
TZNAME:EDT
DTSTART:20230312T070000
END:DAYLIGHT
BEGIN:STANDARD
TZOFFSETFROM:-0400
TZOFFSETTO:-0500
TZNAME:EST
DTSTART:20231105T060000
END:STANDARD
END:VTIMEZONE
BEGIN:VEVENT
DTSTART;TZID=America/New_York:20221006T150000
DTEND;TZID=America/New_York:20221006T190000
DTSTAMP:20260418T103227
CREATED:20220207T012527Z
LAST-MODIFIED:20250715T104750Z
UID:5989-1665068400-1665082800@yankeepoci.org
SUMMARY:Bass Pro Cruise Night
DESCRIPTION:
URL:https://yankeepoci.org/event/bass-pro-cruise-night-16/
LOCATION:Patriot Place\, 2 Patriot Place\, Foxborough\, MA\, 02035
END:VEVENT
BEGIN:VEVENT
DTSTART;TZID=America/New_York:20221008T103000
DTEND;TZID=America/New_York:20221008T170000
DTSTAMP:20260418T103227
CREATED:20220712T010223Z
LAST-MODIFIED:20220920T234333Z
UID:6275-1665225000-1665248400@yankeepoci.org
SUMMARY:Cape Cod Cruise & Marconi Museum Tour
DESCRIPTION:Join us for a scenic cruise of Cape Cod\, ending at the Chatham Marconi Maritime Center. \n\n\n\n10:30 am: Meeting Place# 1 at Greg Corbin’s Home\,451 Summer St. Duxbury\, MA \n\n\n\n11:00 am: Depart to Dunkin Donuts\,24 Meetinghouse Ln\, Sagamore Beach\, MA \n\n\n\n11:45 am: Meeting Place# 2\, Dunkin Donuts24 Meetinghouse Ln\, Sagamore Beach\, MA \n\n\n\n12 Noon: Meet and go over route \n\n\n\n12:15 pm: Depart Dunkin DonutsRoute: 6A East to Orleans Center. Route 28 North to the Marconi Radio Museum 847 Orleans Road North Chatham MA. \n\n\n\nWe suggest you eat some lunch before hand. There will be no food at the museum.Some members intend to go to area restaurants afterwards.
URL:https://yankeepoci.org/event/cape-cod-cruise-marconi-museum-tour/
LOCATION:Chatham Marconi Maritime Center\, 847 Orleans Road\, Chatham\, Massachusetts\, 02650\, United States
END:VEVENT
BEGIN:VEVENT
DTSTART;TZID=America/New_York:20221009T140000
DTEND;TZID=America/New_York:20221009T170000
DTSTAMP:20260418T103227
CREATED:20220920T234843Z
LAST-MODIFIED:20250715T104743Z
UID:6321-1665324000-1665334800@yankeepoci.org
SUMMARY:Yankee POCI October Club Meeting
DESCRIPTION:Yankee POCI October Club Meeting at Tuck’s Trucks in Hudson\, MA
URL:https://yankeepoci.org/event/yankee-poci-october-club-meeting/
LOCATION:Tucks Trucks\, 244 Washington Street\, Hudson\, Massachusetts\, 01749\, United States
CATEGORIES:Club Meetings
END:VEVENT
BEGIN:VEVENT
DTSTART;TZID=America/New_York:20221016T100000
DTEND;TZID=America/New_York:20221016T150000
DTSTAMP:20260418T103227
CREATED:20220808T200607Z
LAST-MODIFIED:20220808T200608Z
UID:6282-1665914400-1665932400@yankeepoci.org
SUMMARY:Bruce Nichols Memorial Car Show at Waters Farm
DESCRIPTION:
URL:https://yankeepoci.org/event/bruce-nichols-memorial-car-show-at-waters-farm/
LOCATION:Waters Farm\, 53 Waters Road\, Sutton\, Massachusetts\, 01590\, United States
END:VEVENT
BEGIN:VEVENT
DTSTART;TZID=America/New_York:20221019T170000
DTEND;TZID=America/New_York:20221019T200000
DTSTAMP:20260418T103227
CREATED:20220326T131013Z
LAST-MODIFIED:20220326T131013Z
UID:6203-1666198800-1666209600@yankeepoci.org
SUMMARY:Nor-Eastern Chapter Cruise Night
DESCRIPTION:Monthly cruise night at Turf Depot in Hooksett\, NH
URL:https://yankeepoci.org/event/nor-eastern-chapter-cruise-night-6/
LOCATION:MA
END:VEVENT
BEGIN:VEVENT
DTSTART;TZID=America/New_York:20221020T150000
DTEND;TZID=America/New_York:20221020T190000
DTSTAMP:20260418T103227
CREATED:20220207T012621Z
LAST-MODIFIED:20250715T104750Z
UID:5991-1666278000-1666292400@yankeepoci.org
SUMMARY:Bass Pro Cruise Night
DESCRIPTION:
URL:https://yankeepoci.org/event/bass-pro-cruise-night-15/
LOCATION:Patriot Place\, 2 Patriot Place\, Foxborough\, MA\, 02035
END:VEVENT
BEGIN:VEVENT
DTSTART;TZID=America/New_York:20221022T080000
DTEND;TZID=America/New_York:20221022T170000
DTSTAMP:20260418T103227
CREATED:20220410T214612Z
LAST-MODIFIED:20220410T214612Z
UID:6218-1666425600-1666458000@yankeepoci.org
SUMMARY:Larz Anderson Extinct Car Day
DESCRIPTION:2022 Lawn Event at the Larz Anderson Auto Museum
URL:https://yankeepoci.org/event/larz-anderson-extinct-car-day/
LOCATION:Larz Anderson Auto Museum\, 15 Newton Street\, Brookline\, Massachusetts\, 02445\, United States
END:VEVENT
END:VCALENDAR