BEGIN:VCALENDAR
VERSION:2.0
PRODID:-//Yankee POCI - ECPv6.15.20//NONSGML v1.0//EN
CALSCALE:GREGORIAN
METHOD:PUBLISH
X-ORIGINAL-URL:https://yankeepoci.org
X-WR-CALDESC:Events for Yankee POCI
REFRESH-INTERVAL;VALUE=DURATION:PT1H
X-Robots-Tag:noindex
X-PUBLISHED-TTL:PT1H
BEGIN:VTIMEZONE
TZID:America/New_York
BEGIN:DAYLIGHT
TZOFFSETFROM:-0500
TZOFFSETTO:-0400
TZNAME:EDT
DTSTART:20220313T070000
END:DAYLIGHT
BEGIN:STANDARD
TZOFFSETFROM:-0400
TZOFFSETTO:-0500
TZNAME:EST
DTSTART:20221106T060000
END:STANDARD
BEGIN:DAYLIGHT
TZOFFSETFROM:-0500
TZOFFSETTO:-0400
TZNAME:EDT
DTSTART:20230312T070000
END:DAYLIGHT
BEGIN:STANDARD
TZOFFSETFROM:-0400
TZOFFSETTO:-0500
TZNAME:EST
DTSTART:20231105T060000
END:STANDARD
BEGIN:DAYLIGHT
TZOFFSETFROM:-0500
TZOFFSETTO:-0400
TZNAME:EDT
DTSTART:20240310T070000
END:DAYLIGHT
BEGIN:STANDARD
TZOFFSETFROM:-0400
TZOFFSETTO:-0500
TZNAME:EST
DTSTART:20241103T060000
END:STANDARD
BEGIN:DAYLIGHT
TZOFFSETFROM:-0500
TZOFFSETTO:-0400
TZNAME:EDT
DTSTART:20250309T070000
END:DAYLIGHT
BEGIN:STANDARD
TZOFFSETFROM:-0400
TZOFFSETTO:-0500
TZNAME:EST
DTSTART:20251102T060000
END:STANDARD
BEGIN:DAYLIGHT
TZOFFSETFROM:-0500
TZOFFSETTO:-0400
TZNAME:EDT
DTSTART:20260308T070000
END:DAYLIGHT
BEGIN:STANDARD
TZOFFSETFROM:-0400
TZOFFSETTO:-0500
TZNAME:EST
DTSTART:20261101T060000
END:STANDARD
BEGIN:DAYLIGHT
TZOFFSETFROM:-0500
TZOFFSETTO:-0400
TZNAME:EDT
DTSTART:20270314T070000
END:DAYLIGHT
BEGIN:STANDARD
TZOFFSETFROM:-0400
TZOFFSETTO:-0500
TZNAME:EST
DTSTART:20271107T060000
END:STANDARD
END:VTIMEZONE
BEGIN:VEVENT
DTSTART;TZID=America/New_York:20230521T100000
DTEND;TZID=America/New_York:20230521T140000
DTSTAMP:20260421T180104
CREATED:20230108T222624Z
LAST-MODIFIED:20250715T104741Z
UID:6385-1684663200-1684677600@yankeepoci.org
SUMMARY:Spring Dustoff Car Show
DESCRIPTION:Spring Dustoff car show & May monthly meeting.  Note\, we are moving this from the usual second Sunday due to the conflict with Mother’s day.  Monthly club meeting will be held at noon.
URL:https://yankeepoci.org/event/spring-dustoff-car-show/
LOCATION:Tucks Trucks\, 244 Washington Street\, Hudson\, Massachusetts\, 01749\, United States
CATEGORIES:Club Meetings
END:VEVENT
BEGIN:VEVENT
DTSTART;TZID=America/New_York:20230611T080000
DTEND;TZID=America/New_York:20230611T170000
DTSTAMP:20260421T180104
CREATED:20221115T231736Z
LAST-MODIFIED:20230416T233530Z
UID:6357-1686470400-1686502800@yankeepoci.org
SUMMARY:Pioneer Valley GTO Association show
DESCRIPTION:The Pioneer Valley club will be holding their annual show\, and the Yankee chapter will be lending their support.  Monthly club meeting will be held at noon. \n\n\n\nYankee chapter members will be caravanning out together.  We will meet at the Charlton Rest Stop on Mass Pike Westbound at 6:30 AM and Depart at 7:00AM!
URL:https://yankeepoci.org/event/pioneer-valley-gto-association-show/
LOCATION:Springfield Elks Lodge #61\, 440 Tiffany Street\, Springfield\, Massachusetts\, 01108\, United States
CATEGORIES:Club Meetings
END:VEVENT
BEGIN:VEVENT
DTSTART;TZID=America/New_York:20230709T070000
DTEND;TZID=America/New_York:20230709T140000
DTSTAMP:20260421T180104
CREATED:20221115T232543Z
LAST-MODIFIED:20230212T204840Z
UID:6361-1688886000-1688911200@yankeepoci.org
SUMMARY:BSAAC show at Endicott Estates
DESCRIPTION:Please be sure to pre-register for the show\, as the lines can be very long to register on the day of the event.  Monthly club meeting will be held at noon.
URL:https://yankeepoci.org/event/bsaac-show-at-endicott-estates/
LOCATION:Endicott Estates\, 656 East Street\, Dedham\, Massachusetts\, 02026\, United States
CATEGORIES:Club Meetings
END:VEVENT
BEGIN:VEVENT
DTSTART;TZID=America/New_York:20230813T100000
DTEND;TZID=America/New_York:20230813T140000
DTSTAMP:20260421T180104
CREATED:20230212T204447Z
LAST-MODIFIED:20230218T131553Z
UID:6417-1691920800-1691935200@yankeepoci.org
SUMMARY:Car Show at Tucks Trucks
DESCRIPTION:Join us for our annual summer car show at Tucks Trucks.  Monthly club meeting will be held at noon.
URL:https://yankeepoci.org/event/car-show-at-tucks-trucks/
LOCATION:Tucks Trucks\, 244 Washington Street\, Hudson\, Massachusetts\, 01749\, United States
CATEGORIES:Club Meetings
END:VEVENT
BEGIN:VEVENT
DTSTART;TZID=America/New_York:20230910T140000
DTEND;TZID=America/New_York:20230910T160000
DTSTAMP:20260421T180104
CREATED:20230212T205921Z
LAST-MODIFIED:20230212T205922Z
UID:6425-1694354400-1694361600@yankeepoci.org
SUMMARY:September Club Meeting
DESCRIPTION:Our September meeting will be hosted by Greg Corbin.  Please join us at his home at 451 Summer Street in Duxbury\, MA
URL:https://yankeepoci.org/event/september-club-meeting/
LOCATION:Greg Corbin’s home\, 451 Summer Street\, Duxbury\, Massachusetts\, 02332\, United States
CATEGORIES:Club Meetings
END:VEVENT
BEGIN:VEVENT
DTSTART;TZID=America/New_York:20240616T140000
DTEND;TZID=America/New_York:20240616T160000
DTSTAMP:20260421T180104
CREATED:20240519T230914Z
LAST-MODIFIED:20240519T230915Z
UID:6911-1718546400-1718553600@yankeepoci.org
SUMMARY:June Club Meeting
DESCRIPTION:Merle and Janice Green will be hosting our June meeting at 4 Mount Lebanon Street\, Pepperell\, MA
URL:https://yankeepoci.org/event/june-club-meeting/
LOCATION:Merle & Janice’s home\, 4 Mount Lebanon Street\, Pepperell\, Massachusetts\, 01463\, United States
CATEGORIES:Club Meetings
END:VEVENT
BEGIN:VEVENT
DTSTART;TZID=America/New_York:20240810T090000
DTEND;TZID=America/New_York:20240810T130000
DTSTAMP:20260421T180104
CREATED:20231113T144630Z
LAST-MODIFIED:20250715T104730Z
UID:6777-1723280400-1723294800@yankeepoci.org
SUMMARY:Canceled - 1A Auto Charity car show & Club Meeting - Canceled
DESCRIPTION:Due to inclement weather\, our 1A Auto charity show will be cancelled.
URL:https://yankeepoci.org/event/canceled-1a-auto-charity-car-show-club-meeting-canceled/
LOCATION:Pepperell Town Field\, 4 Hollis Street\, Pepperell\, Massachusetts\, 01463\, United States
CATEGORIES:Club Meetings
END:VEVENT
BEGIN:VEVENT
DTSTART;TZID=America/New_York:20240915T140000
DTEND;TZID=America/New_York:20240915T160000
DTSTAMP:20260421T180104
CREATED:20240519T232759Z
LAST-MODIFIED:20240801T140617Z
UID:6915-1726408800-1726416000@yankeepoci.org
SUMMARY:September Club Meeting
DESCRIPTION:Greg & Mal Corbin will be hosting our September meeting at 451 Summer Street\, Duxbury\, MA
URL:https://yankeepoci.org/event/september-club-meeting-2/
LOCATION:Greg & Mal Corbin’s home\, 451 Summer Street\, Duxbury\, Massachusetts\, 02332\, United States
CATEGORIES:Club Meetings
END:VEVENT
BEGIN:VEVENT
DTSTART;TZID=America/New_York:20241110T140000
DTEND;TZID=America/New_York:20241110T160000
DTSTAMP:20260421T180104
CREATED:20240801T140129Z
LAST-MODIFIED:20241106T011743Z
UID:6963-1731247200-1731254400@yankeepoci.org
SUMMARY:November Club Meeting
DESCRIPTION:November club meeting to be hosted at Tucks Trucks
URL:https://yankeepoci.org/event/november-club-meeting-2/
LOCATION:Tucks Trucks\, 244 Washington Street\, Hudson\, Massachusetts\, 01749\, United States
CATEGORIES:Club Meetings
END:VEVENT
BEGIN:VEVENT
DTSTART;TZID=America/New_York:20241207T170000
DTEND;TZID=America/New_York:20241207T220000
DTSTAMP:20260421T180104
CREATED:20240801T140455Z
LAST-MODIFIED:20240801T140513Z
UID:6967-1733590800-1733608800@yankeepoci.org
SUMMARY:Club Holiday Party
DESCRIPTION:Join us for our club holiday party at the Elks club in Auburn\, MA
URL:https://yankeepoci.org/event/club-holiday-party/
LOCATION:Auburn Elks Club\, 754 Southbridge Street\, Auburn\, Massachusetts\, 01501\, United States
CATEGORIES:Club Meetings
END:VEVENT
BEGIN:VEVENT
DTSTART;TZID=America/New_York:20250112T140000
DTEND;TZID=America/New_York:20250112T160000
DTSTAMP:20260421T180104
CREATED:20240916T223837Z
LAST-MODIFIED:20240916T223838Z
UID:6980-1736690400-1736697600@yankeepoci.org
SUMMARY:January Club Meeting & Elections
DESCRIPTION:Join us for our January club meeting and our annual club elections hosted by Dan Richardi.  Each year\, we think it might be the last one\, and each year Dan amazes us with his generosity and hosts us again at his restaurant.  Many thanks to Dan for this wonderful service he has provided to the club for all these years.
URL:https://yankeepoci.org/event/january-club-meeting-elections-3/
LOCATION:Richardi’s Original Submarine Sandwich\, 175 Hancock Street\, Braintree\, Massachusetts\, 02184\, United States
CATEGORIES:Club Meetings
END:VEVENT
BEGIN:VEVENT
DTSTART;TZID=America/New_York:20250209T140000
DTEND;TZID=America/New_York:20250209T150000
DTSTAMP:20260421T180104
CREATED:20250101T133925Z
LAST-MODIFIED:20250130T005856Z
UID:6998-1739109600-1739113200@yankeepoci.org
SUMMARY:February Club Meeting
DESCRIPTION:Our February Club meeting will be held via Zoom.  Link to the Zoom meeting is below:
URL:https://yankeepoci.org/event/february-club-meeting-3/
CATEGORIES:Club Meetings
END:VEVENT
BEGIN:VEVENT
DTSTART;TZID=America/New_York:20250309T140000
DTEND;TZID=America/New_York:20250309T150000
DTSTAMP:20260421T180104
CREATED:20250101T134016Z
LAST-MODIFIED:20250113T012307Z
UID:7000-1741528800-1741532400@yankeepoci.org
SUMMARY:March Club Meeting
DESCRIPTION:Our March Club meeting will be held at Tucks Trucks
URL:https://yankeepoci.org/event/march-club-meeting-2/
LOCATION:Tucks Trucks\, 244 Washington Street\, Hudson\, Massachusetts\, 01749\, United States
CATEGORIES:Club Meetings
END:VEVENT
BEGIN:VEVENT
DTSTART;TZID=America/New_York:20250413T140000
DTEND;TZID=America/New_York:20250413T160000
DTSTAMP:20260421T180104
CREATED:20250113T012811Z
LAST-MODIFIED:20250113T013401Z
UID:7021-1744552800-1744560000@yankeepoci.org
SUMMARY:April Club Meeting
DESCRIPTION:Our April club meeting will be hosted by Jim & Judy May at their home at 68 Bond Road\, Charlton\, MA
URL:https://yankeepoci.org/event/april-club-meeting-3/
LOCATION:Jim & Judy May’s\, 68 Bond Road\, Charlton\, Massachusetts\, 01507\, United States
CATEGORIES:Club Meetings
END:VEVENT
BEGIN:VEVENT
DTSTART;TZID=America/New_York:20250518T100000
DTEND;TZID=America/New_York:20250518T140000
DTSTAMP:20260421T180104
CREATED:20250113T013245Z
LAST-MODIFIED:20250113T013246Z
UID:7025-1747562400-1747576800@yankeepoci.org
SUMMARY:Spring Dustoff Show & Club Meeting
DESCRIPTION:Join us for our spring dustoff show\, with club meeting to be held at noon.
URL:https://yankeepoci.org/event/spring-dustoff-show-club-meeting-2/
LOCATION:Tucks Trucks\, 244 Washington Street\, Hudson\, Massachusetts\, 01749\, United States
CATEGORIES:Club Meetings
END:VEVENT
BEGIN:VEVENT
DTSTART;TZID=America/New_York:20250608T090000
DTEND;TZID=America/New_York:20250608T140000
DTSTAMP:20260421T180104
CREATED:20250113T014351Z
LAST-MODIFIED:20250209T191702Z
UID:7029-1749373200-1749391200@yankeepoci.org
SUMMARY:Pioneer Valley GTO Association Annual Show
DESCRIPTION:Join the Pioneer Valley GTO Association for their annual show at the Springfield Elks. We will plan to meet up and caravan out to the show for any members who are interested. Times and details for the caravan meetup to be announced as we get closer to the show date.  Please note\, this will also serve as our June club meeting event.
URL:https://yankeepoci.org/event/pioneer-valley-gto-association-annual-show/
LOCATION:Springfield Elks Lodge\, 440 Tiffany Street\, Springfield\, Massachusetts\, 01108\, United States
CATEGORIES:Club Meetings
END:VEVENT
BEGIN:VEVENT
DTSTART;TZID=America/New_York:20250713T080000
DTEND;TZID=America/New_York:20250713T150000
DTSTAMP:20260421T180104
CREATED:20250209T192642Z
LAST-MODIFIED:20250209T192710Z
UID:7058-1752393600-1752418800@yankeepoci.org
SUMMARY:BSAAC Show at Endicott Estates
DESCRIPTION:Join the Bay State Antique Auto Club for their annual show at Endicott Estates.  Be sure to pre-register for this event to avoid waiting in line the morning of the show.  We will hold our July club meeting at noon.
URL:https://yankeepoci.org/event/bsaac-show-at-endicott-estates-2/
LOCATION:Endicott Estates\, 656 East Street\, Dedham\, Massachusetts\, 02026\, United States
CATEGORIES:Club Meetings
END:VEVENT
BEGIN:VEVENT
DTSTART;TZID=America/New_York:20250809T090000
DTEND;TZID=America/New_York:20250809T150000
DTSTAMP:20260421T180104
CREATED:20250210T232636Z
LAST-MODIFIED:20250210T232638Z
UID:7062-1754730000-1754751600@yankeepoci.org
SUMMARY:1A Auto Charity Car Show & Club Meeting
DESCRIPTION:
URL:https://yankeepoci.org/event/1a-auto-charity-car-show-club-meeting-2/
LOCATION:Pepperell Town Field\, 4 Hollis Street\, Pepperell\, Massachusetts\, 01463\, United States
CATEGORIES:Club Meetings
END:VEVENT
BEGIN:VEVENT
DTSTART;TZID=America/New_York:20250914T140000
DTEND;TZID=America/New_York:20250914T160000
DTSTAMP:20260421T180104
CREATED:20250519T220231Z
LAST-MODIFIED:20250519T220232Z
UID:7164-1757858400-1757865600@yankeepoci.org
SUMMARY:September Club Meeting
DESCRIPTION:Greg & Mal Corbin will be hosting our September meeting at 451 Summer Street\, Duxbury\, MA
URL:https://yankeepoci.org/event/september-club-meeting-3/
LOCATION:Greg & Mal Corbin’s Home\, 451 Summer Street\, Duxbury\, Massachusetts\, 02332\, United States
CATEGORIES:Club Meetings
END:VEVENT
BEGIN:VEVENT
DTSTART;TZID=America/New_York:20260308T140000
DTEND;TZID=America/New_York:20260308T160000
DTSTAMP:20260421T180104
CREATED:20260113T134049Z
LAST-MODIFIED:20260113T134051Z
UID:7268-1772978400-1772985600@yankeepoci.org
SUMMARY:March Club Meeting
DESCRIPTION:Join us at Tucks Trucks for our March club meeting.
URL:https://yankeepoci.org/event/march-club-meeting-3/
LOCATION:Tucks Trucks\, 244 Washington Street\, Hudson\, MA\, 01749
CATEGORIES:Club Meetings
END:VEVENT
BEGIN:VEVENT
DTSTART;TZID=America/New_York:20260412T140000
DTEND;TZID=America/New_York:20260412T160000
DTSTAMP:20260421T180104
CREATED:20260113T134217Z
LAST-MODIFIED:20260113T134218Z
UID:7270-1776002400-1776009600@yankeepoci.org
SUMMARY:April Club Meeting
DESCRIPTION:Join us at Jim and Judy May’s home for our April club meeting
URL:https://yankeepoci.org/event/april-club-meeting-4/
LOCATION:Jim & Judy May’s home\, 68 Bond Road\, Charlton\, Massachusetts\, 01507\, United States
CATEGORIES:Club Meetings
END:VEVENT
BEGIN:VEVENT
DTSTART;TZID=America/New_York:20260517T100000
DTEND;TZID=America/New_York:20260517T130000
DTSTAMP:20260421T180104
CREATED:20260113T134802Z
LAST-MODIFIED:20260113T134804Z
UID:7272-1779012000-1779022800@yankeepoci.org
SUMMARY:Spring Dustoff Show & Club Meeting
DESCRIPTION:The wonderful team at Tucks Trucks will once again host our spring dustoff show.  Get your favorite Pontiac\, Oakland or GMC out of the garage and come join us to start the season!
URL:https://yankeepoci.org/event/spring-dustoff-show-club-meeting-3/
LOCATION:Tucks Trucks\, 244 Washington Street\, Hudson\, MA\, 01749
CATEGORIES:Club Meetings
END:VEVENT
BEGIN:VEVENT
DTSTART;TZID=America/New_York:20260614T090000
DTEND;TZID=America/New_York:20260614T140000
DTSTAMP:20260421T180104
CREATED:20260124T192707Z
LAST-MODIFIED:20260417T010033Z
UID:7274-1781427600-1781445600@yankeepoci.org
SUMMARY:Pioneer Valley GTO Association Annual Show
DESCRIPTION:Join the Pioneer Valley GTO Association for their annual show at the Springfield Elks. We will plan to meet up and caravan out to the show for any members who are interested. Meeting location will be the I90 Westbound service plaza in Charlton. The caravan will leave at 7:30AM. We will hold our June club meeting at the event.
URL:https://yankeepoci.org/event/pioneer-valley-gto-association-annual-show-2/
LOCATION:Springfield Elks Lodge\, 440 Tiffany Street\, Springfield\, Massachusetts\, 01108\, United States
CATEGORIES:Club Meetings
END:VEVENT
BEGIN:VEVENT
DTSTART;TZID=America/New_York:20260808T090000
DTEND;TZID=America/New_York:20260808T150000
DTSTAMP:20260421T180104
CREATED:20260309T212820Z
LAST-MODIFIED:20260309T212822Z
UID:7296-1786179600-1786201200@yankeepoci.org
SUMMARY:1A Auto Charity Car Show & Club Meeting
DESCRIPTION:
URL:https://yankeepoci.org/event/1a-auto-charity-car-show-club-meeting/
LOCATION:Pepperell Town Field\, 4 Hollis Street\, Pepperell\, Massachusetts\, United States
CATEGORIES:Club Meetings
END:VEVENT
END:VCALENDAR