BEGIN:VCALENDAR
VERSION:2.0
PRODID:-//Yankee POCI - ECPv6.15.20//NONSGML v1.0//EN
CALSCALE:GREGORIAN
METHOD:PUBLISH
X-WR-CALNAME:Yankee POCI
X-ORIGINAL-URL:https://yankeepoci.org
X-WR-CALDESC:Events for Yankee POCI
REFRESH-INTERVAL;VALUE=DURATION:PT1H
X-Robots-Tag:noindex
X-PUBLISHED-TTL:PT1H
BEGIN:VTIMEZONE
TZID:America/New_York
BEGIN:DAYLIGHT
TZOFFSETFROM:-0500
TZOFFSETTO:-0400
TZNAME:EDT
DTSTART:20230312T070000
END:DAYLIGHT
BEGIN:STANDARD
TZOFFSETFROM:-0400
TZOFFSETTO:-0500
TZNAME:EST
DTSTART:20231105T060000
END:STANDARD
BEGIN:DAYLIGHT
TZOFFSETFROM:-0500
TZOFFSETTO:-0400
TZNAME:EDT
DTSTART:20240310T070000
END:DAYLIGHT
BEGIN:STANDARD
TZOFFSETFROM:-0400
TZOFFSETTO:-0500
TZNAME:EST
DTSTART:20241103T060000
END:STANDARD
BEGIN:DAYLIGHT
TZOFFSETFROM:-0500
TZOFFSETTO:-0400
TZNAME:EDT
DTSTART:20250309T070000
END:DAYLIGHT
BEGIN:STANDARD
TZOFFSETFROM:-0400
TZOFFSETTO:-0500
TZNAME:EST
DTSTART:20251102T060000
END:STANDARD
END:VTIMEZONE
BEGIN:VEVENT
DTSTART;TZID=America/New_York:20241207T170000
DTEND;TZID=America/New_York:20241207T220000
DTSTAMP:20260419T205242
CREATED:20240801T140455Z
LAST-MODIFIED:20240801T140513Z
UID:6967-1733590800-1733608800@yankeepoci.org
SUMMARY:Club Holiday Party
DESCRIPTION:Join us for our club holiday party at the Elks club in Auburn\, MA
URL:https://yankeepoci.org/event/club-holiday-party/
LOCATION:Auburn Elks Club\, 754 Southbridge Street\, Auburn\, Massachusetts\, 01501\, United States
CATEGORIES:Club Meetings
END:VEVENT
END:VCALENDAR