BEGIN:VCALENDAR
VERSION:2.0
PRODID:-//Yankee POCI - ECPv6.15.20//NONSGML v1.0//EN
CALSCALE:GREGORIAN
METHOD:PUBLISH
X-WR-CALNAME:Yankee POCI
X-ORIGINAL-URL:https://yankeepoci.org
X-WR-CALDESC:Events for Yankee POCI
REFRESH-INTERVAL;VALUE=DURATION:PT1H
X-Robots-Tag:noindex
X-PUBLISHED-TTL:PT1H
BEGIN:VTIMEZONE
TZID:America/New_York
BEGIN:DAYLIGHT
TZOFFSETFROM:-0500
TZOFFSETTO:-0400
TZNAME:EDT
DTSTART:20210314T070000
END:DAYLIGHT
BEGIN:STANDARD
TZOFFSETFROM:-0400
TZOFFSETTO:-0500
TZNAME:EST
DTSTART:20211107T060000
END:STANDARD
BEGIN:DAYLIGHT
TZOFFSETFROM:-0500
TZOFFSETTO:-0400
TZNAME:EDT
DTSTART:20220313T070000
END:DAYLIGHT
BEGIN:STANDARD
TZOFFSETFROM:-0400
TZOFFSETTO:-0500
TZNAME:EST
DTSTART:20221106T060000
END:STANDARD
BEGIN:DAYLIGHT
TZOFFSETFROM:-0500
TZOFFSETTO:-0400
TZNAME:EDT
DTSTART:20230312T070000
END:DAYLIGHT
BEGIN:STANDARD
TZOFFSETFROM:-0400
TZOFFSETTO:-0500
TZNAME:EST
DTSTART:20231105T060000
END:STANDARD
END:VTIMEZONE
BEGIN:VEVENT
DTSTART;TZID=America/New_York:20220911T100000
DTEND;TZID=America/New_York:20220911T150000
DTSTAMP:20260421T085310
CREATED:20220711T233528Z
LAST-MODIFIED:20220712T000535Z
UID:6271-1662890400-1662908400@yankeepoci.org
SUMMARY:Kimball Farms Show
DESCRIPTION:Come join us for great food\, ice cream and more at Kimball Farms for a car show and monthly meeting.
URL:https://yankeepoci.org/event/kimball-farms-show/
LOCATION:Kimball Farms\, 1543 Lunenburg Road\, Lancaster\, Massachusetts\, 01523\, United States
CATEGORIES:Club Meetings
END:VEVENT
END:VCALENDAR