BEGIN:VCALENDAR
VERSION:2.0
PRODID:-//Yankee POCI - ECPv6.15.20//NONSGML v1.0//EN
CALSCALE:GREGORIAN
METHOD:PUBLISH
X-ORIGINAL-URL:https://yankeepoci.org
X-WR-CALDESC:Events for Yankee POCI
REFRESH-INTERVAL;VALUE=DURATION:PT1H
X-Robots-Tag:noindex
X-PUBLISHED-TTL:PT1H
BEGIN:VTIMEZONE
TZID:America/New_York
BEGIN:DAYLIGHT
TZOFFSETFROM:-0500
TZOFFSETTO:-0400
TZNAME:EDT
DTSTART:20220313T070000
END:DAYLIGHT
BEGIN:STANDARD
TZOFFSETFROM:-0400
TZOFFSETTO:-0500
TZNAME:EST
DTSTART:20221106T060000
END:STANDARD
BEGIN:DAYLIGHT
TZOFFSETFROM:-0500
TZOFFSETTO:-0400
TZNAME:EDT
DTSTART:20230312T070000
END:DAYLIGHT
BEGIN:STANDARD
TZOFFSETFROM:-0400
TZOFFSETTO:-0500
TZNAME:EST
DTSTART:20231105T060000
END:STANDARD
BEGIN:DAYLIGHT
TZOFFSETFROM:-0500
TZOFFSETTO:-0400
TZNAME:EDT
DTSTART:20240310T070000
END:DAYLIGHT
BEGIN:STANDARD
TZOFFSETFROM:-0400
TZOFFSETTO:-0500
TZNAME:EST
DTSTART:20241103T060000
END:STANDARD
END:VTIMEZONE
BEGIN:VEVENT
DTSTART;TZID=America/New_York:20230626T080000
DTEND;TZID=America/New_York:20230701T170000
DTSTAMP:20260421T080442
CREATED:20230321T233337Z
LAST-MODIFIED:20230321T233337Z
UID:6545-1687766400-1688230800@yankeepoci.org
SUMMARY:2023 POCI Nationals
DESCRIPTION:2023 POCI Nationals in Murfreesboro\, TN
URL:https://yankeepoci.org/event/2023-poci-nationals/
LOCATION:Embassy Suites\, 1200 Conference Center Blvd\, Murfreesboro\, Tennessee\, 37129\, United States
END:VEVENT
BEGIN:VEVENT
DTSTART;TZID=America/New_York:20230627T080000
DTEND;TZID=America/New_York:20230701T170000
DTSTAMP:20260421T080442
CREATED:20230321T233623Z
LAST-MODIFIED:20230321T233623Z
UID:6549-1687852800-1688230800@yankeepoci.org
SUMMARY:2023 GTO Nationals
DESCRIPTION:2023 GTO Nationals in Springfield\, IL
URL:https://yankeepoci.org/event/2023-gto-nationals/
LOCATION:Crowne Plaza\, 3000 S Dirksen Pkwy\, Springfield\, Illinois\, 62703\, United States
END:VEVENT
END:VCALENDAR