BEGIN:VCALENDAR
VERSION:2.0
PRODID:-//Yankee POCI - ECPv6.15.20//NONSGML v1.0//EN
CALSCALE:GREGORIAN
METHOD:PUBLISH
X-ORIGINAL-URL:https://yankeepoci.org
X-WR-CALDESC:Events for Yankee POCI
REFRESH-INTERVAL;VALUE=DURATION:PT1H
X-Robots-Tag:noindex
X-PUBLISHED-TTL:PT1H
BEGIN:VTIMEZONE
TZID:America/New_York
BEGIN:DAYLIGHT
TZOFFSETFROM:-0500
TZOFFSETTO:-0400
TZNAME:EDT
DTSTART:20220313T070000
END:DAYLIGHT
BEGIN:STANDARD
TZOFFSETFROM:-0400
TZOFFSETTO:-0500
TZNAME:EST
DTSTART:20221106T060000
END:STANDARD
BEGIN:DAYLIGHT
TZOFFSETFROM:-0500
TZOFFSETTO:-0400
TZNAME:EDT
DTSTART:20230312T070000
END:DAYLIGHT
BEGIN:STANDARD
TZOFFSETFROM:-0400
TZOFFSETTO:-0500
TZNAME:EST
DTSTART:20231105T060000
END:STANDARD
BEGIN:DAYLIGHT
TZOFFSETFROM:-0500
TZOFFSETTO:-0400
TZNAME:EDT
DTSTART:20240310T070000
END:DAYLIGHT
BEGIN:STANDARD
TZOFFSETFROM:-0400
TZOFFSETTO:-0500
TZNAME:EST
DTSTART:20241103T060000
END:STANDARD
END:VTIMEZONE
BEGIN:VEVENT
DTSTART;TZID=America/New_York:20230416T140000
DTEND;TZID=America/New_York:20230416T160000
DTSTAMP:20260419T143034
CREATED:20230108T222310Z
LAST-MODIFIED:20230302T202739Z
UID:6383-1681653600-1681660800@yankeepoci.org
SUMMARY:April Club Meeting
DESCRIPTION:April club meeting to be held at Jim & Judy May’s home at 68 Bond Road\, Charlton\, MA.
URL:https://yankeepoci.org/event/april-club-meeting/
LOCATION:Jim & Judy May’s home\, 68 Bond Road\, Charlton\, Massachusetts\, 01507\, United States
CATEGORIES:Club Meetings
END:VEVENT
END:VCALENDAR