BEGIN:VCALENDAR
VERSION:2.0
PRODID:-//Yankee POCI - ECPv6.15.20//NONSGML v1.0//EN
CALSCALE:GREGORIAN
METHOD:PUBLISH
X-ORIGINAL-URL:https://yankeepoci.org
X-WR-CALDESC:Events for Yankee POCI
REFRESH-INTERVAL;VALUE=DURATION:PT1H
X-Robots-Tag:noindex
X-PUBLISHED-TTL:PT1H
BEGIN:VTIMEZONE
TZID:America/New_York
BEGIN:DAYLIGHT
TZOFFSETFROM:-0500
TZOFFSETTO:-0400
TZNAME:EDT
DTSTART:20220313T070000
END:DAYLIGHT
BEGIN:STANDARD
TZOFFSETFROM:-0400
TZOFFSETTO:-0500
TZNAME:EST
DTSTART:20221106T060000
END:STANDARD
BEGIN:DAYLIGHT
TZOFFSETFROM:-0500
TZOFFSETTO:-0400
TZNAME:EDT
DTSTART:20230312T070000
END:DAYLIGHT
BEGIN:STANDARD
TZOFFSETFROM:-0400
TZOFFSETTO:-0500
TZNAME:EST
DTSTART:20231105T060000
END:STANDARD
BEGIN:DAYLIGHT
TZOFFSETFROM:-0500
TZOFFSETTO:-0400
TZNAME:EDT
DTSTART:20240310T070000
END:DAYLIGHT
BEGIN:STANDARD
TZOFFSETFROM:-0400
TZOFFSETTO:-0500
TZNAME:EST
DTSTART:20241103T060000
END:STANDARD
END:VTIMEZONE
BEGIN:VEVENT
DTSTART;TZID=America/New_York:20230318T170000
DTEND;TZID=America/New_York:20230318T220000
DTSTAMP:20260419T112422
CREATED:20221115T231114Z
LAST-MODIFIED:20230212T210519Z
UID:6355-1679158800-1679176800@yankeepoci.org
SUMMARY:March club meeting & anniversary party
DESCRIPTION:Many thanks to all those who provided suggestions and helped us with the search for a new venue.  We will be holding this year’s party at the Auburn Elks Club with entertainment to be provided by DJ Crusin Bruce. \n\n\n\nThe party will begin at 5pm\, with drinks and appetizers from 5-6p.  We will hold a brief meeting from 6-6:30\, with dinner to follow after the meeting. \n\n\n\nPlease reach out to Mike if you have items for the raffle \n\n\n\nPlease also email Ann Marie if you’ll be attending so that we can get an accurate head count for dinner. \n\n\n\nPlease note\, the entrance to the Elks is right next to the Jiffy Lube on Southbridge Street (Route 12).  The street next to the Elks has no entrance to the Elks parking lot.
URL:https://yankeepoci.org/event/march-club-meeting-anniversary-party/
LOCATION:Auburn Elks Club\, 754 Southbridge Street\, Auburn\, Massachusetts\, 01501\, United States
CATEGORIES:Club Meetings
END:VEVENT
END:VCALENDAR